BEGIN:VCALENDAR
VERSION:2.0
PRODID:-//My Community Diary//iCal Event//EN
CALSCALE:GREGORIAN
METHOD:PUBLISH
BEGIN:VEVENT
UID:71f0f159-b6d0-46a7-8e8a-a108de13fe07
DTSTAMP:20260422T034515Z
DTSTART;VALUE=DATE:20260919
DTEND;VALUE=DATE:20260920
SUMMARY:PBR Monster Energy Tour Orange Invitational
DESCRIPTION:A sport like no other. A showdown of the greatest. Heart-stopping action. It's man vs. beast\, where every second counts.\n\nThe PBR Australia Monster Energy Tour is charging into Orange– and it's bringing the fiercest riders and rankest bulls in the nation for one night of adrenaline-fueled\, edge-of-your-seat action.\n\nJoin them at Wade Park for an unmatched entertainment experience at the PBR.\n\nBuckle up for the toughest 8 seconds in sports and find out what it means to Be Cowboy.\n\nEntry Cost\nAdult $55 \nChild $35 \nFamily $155 
LOCATION:\, 154A Moulder St\, Orange\, NSW 2800\, NSW\, 2800
END:VEVENT
END:VCALENDAR
