BEGIN:VCALENDAR
VERSION:2.0
PRODID:-//My Community Diary//iCal Event//EN
CALSCALE:GREGORIAN
METHOD:PUBLISH
BEGIN:VEVENT
UID:16138729-76a5-4bbf-98fa-fd5209d08be5
DTSTAMP:20260421T211528Z
DTSTART;VALUE=DATE:20260905
DTEND;VALUE=DATE:20260906
SUMMARY:PBR Monster Energy Tour Hawkesbury Invitational
DESCRIPTION:A sport like no other. A showdown of the greatest. Heart-stopping action. It's man vs. beast\, where every second counts.\n\nThe PBR Australia Monster Energy Tour is charging into Hawkesbury – and it's bringing the fiercest riders and rankest bulls in the nation for two nights of adrenaline-fueled\, edge-of-your-seat action.\n\nJoin them at the Hawkesbury Showground for an unmatched entertainment experience at the PBR.\n\nBuckle up for the toughest 8 seconds in sports and find out what it means to Be Cowboy.\n\nEntry Cost\nAll tickets $45 
LOCATION:\, Racecourse Road\, Clarendon\, NSW 2756\, NSW\, 2756
RRULE:FREQ=DAILY;INTERVAL=1;UNTIL=20260907T000000Z
END:VEVENT
END:VCALENDAR
