BEGIN:VCALENDAR
VERSION:2.0
PRODID:-//My Community Diary//iCal Event//EN
CALSCALE:GREGORIAN
METHOD:PUBLISH
BEGIN:VEVENT
UID:1d627c53-7059-40d1-bfad-bc71880e3dbf
DTSTAMP:20260424T125842Z
DTSTART;VALUE=DATE:20270306
DTEND;VALUE=DATE:20270307
SUMMARY:Patches Asphalt Queanbeyan Rodeo
DESCRIPTION:The Queanbeyan-Palerang Regional Council community event of the year winner\, Patches Asphalt Queanbeyan Rodeo\, enters its  26th year this year.\n\nThe rodeo will be held at the Queanbeyan Showground and includes bull rides\, bulldogging\, saddle bronc\, bareback\, barrel racing and junior events to mention only a few. \n\nFamilies can enjoy Side Show Alley\, children's activities\, retail stores as well as food and drink. In addition to providing an action-packed afternoon and evening of family fun and entertainment\, Patches Asphalt Queanbeyan Rodeo continues to raise much-needed funds for a wide variety of local charities and community organisations. \n\nOver the years the Rodeo has donated many thousands of dollars and looks forward to continuing to do so.\n\nTickets will be available online (with some available at the gate). Bag and ID checks will be in place for this event.\n\nSee Patches Asphalt Queanbeyan Rodeo on Facebook for more information.\n\nEntry Cost\nAll tickets $25  - Ticket prices for 2026 are\n\nAdults   (18+)                      AUD50\n\nChildren 8-17                    AUD25\n\nChildren under 8              Free
LOCATION:\, Glebe Avenue\, Queanbeyan\, NSW 2620\, NSW\, 2620
END:VEVENT
END:VCALENDAR
