BEGIN:VCALENDAR
VERSION:2.0
PRODID:-//My Community Diary//iCal Event//EN
CALSCALE:GREGORIAN
METHOD:PUBLISH
BEGIN:VEVENT
UID:7ce88038-d0ab-40c3-bc15-a4e86a031261
DTSTAMP:20260422T021924Z
DTSTART;VALUE=DATE:20260530
DTEND;VALUE=DATE:20260531
SUMMARY:Pasta making class at Pasta Buoy Huskission
DESCRIPTION:Pasta Buoy present a fun and hands-on pasta making session! This is the perfect chance to roll up your sleeves\, get messy and create some delicious homemade pasta\, while indulging in a complimentary spritz and shared antipasti plates.\n\nEntry Cost\nAll tickets $89 
LOCATION:\, 60 Owen Street\, Huskisson\, NSW 2540\, NSW\, 2540
END:VEVENT
END:VCALENDAR
