BEGIN:VCALENDAR
VERSION:2.0
PRODID:-//My Community Diary//iCal Event//EN
CALSCALE:GREGORIAN
METHOD:PUBLISH
BEGIN:VEVENT
UID:d1e2db66-395c-4e66-a668-d94fa97f2806
DTSTAMP:20260424T100720Z
DTSTART;VALUE=DATE:20260913
DTEND;VALUE=DATE:20260914
SUMMARY:Particles of Light - Nowra
DESCRIPTION:It strikes like a particle\, but moves like a wave\; emanates in straight lines\, yet drapes the world in beauty. Light is the ultimate ephemera\; it can't be bottled\, only felt\, remembered\, or experienced blazingly new. \n\nParticles of Light sees light in the sound of six voices\, in radiant vocal music that glimmers\, refracts and fractures into colour\, from the 'light tales' of Elena Kats-Chernin to the dawning of Nardi Simpson's 'Yarrager Mayraa'. Join Luminescence Chamber Singers as they take the stage for a joyful celebration of their founding metaphor: how singing illuminates.
LOCATION:\, 11 Berry Street\, Nowra\, NSW 2541\, NSW\, 2541
END:VEVENT
END:VCALENDAR
