BEGIN:VCALENDAR
VERSION:2.0
PRODID:-//My Community Diary//iCal Event//EN
CALSCALE:GREGORIAN
METHOD:PUBLISH
BEGIN:VEVENT
UID:eb20d6b4-2d74-4e41-94d4-740b283aab7c
DTSTAMP:20260421T224416Z
DTSTART;VALUE=DATE:20261011
DTEND;VALUE=DATE:20261012
SUMMARY:Parramatta's Annual Wedding Expo
DESCRIPTION:Their Parramatta bridal event is one of the largest of the year and is set at the prestigious Rosehill Gardens Racecourse just a heartbeat away from the Parramatta CBD. With over 100 vendors\, from the greater Sydney and Parramatta region. They love the scale\, upbeat\, modern vibe that the Parramatta Bridal Expo brings. Full of colour\, inspiration\, fun and great live entertainment – the Parramatta Annual Wedding Expo is an event not to be missed.\n\nThe hand-picked creative vendors include an array of florist\, bridal gowns\, photography\, invitations\, wedding cars\, hens parties\, makeup\, fitness\, men's suits\, shoes\, videography\, reception venues\, honeymoon\, bridal favours\, candy buffets\, wedding cakes\, bridal jewellery\, wedding planners\, marriage celebrants and wedding stylist.
LOCATION:\, James Ruse Dr\, Rosehill\, NSW 2142\, NSW\, 2142
END:VEVENT
END:VCALENDAR
