BEGIN:VCALENDAR
VERSION:2.0
PRODID:-//My Community Diary//iCal Event//EN
CALSCALE:GREGORIAN
METHOD:PUBLISH
BEGIN:VEVENT
UID:4aaf8d59-b706-4be3-825e-b6275f163027
DTSTAMP:20260421T211436Z
DTSTART;VALUE=DATE:20270108
DTEND;VALUE=DATE:20270109
SUMMARY:Parkes Elvis Festival
DESCRIPTION:The iconic Parkes Elvis Festival is a celebration of Elvis Presley's life and music held annually in Parkes\, NSW\, to coincide with the birthday of The King in January. \n\nRecognised as one of the top three Festivals and Events in Australia\, the Festival attracts tens of thousands of Elvis fans with a global reach of 599 million.\n\nThe Festival continues to grow with more than 200 events across five fabulous\, fun-filled days. From Wednesday to Sunday\, events take place at venues in and around Parkes. The Festival attracts headline international and national Elvis tribute artists\, and more than 24\,000 national and international visitors to Central West NSW. \n\nParkes Elvis Festival is proud to be officially endorsed by the estate of Elvis Presley\, Elvis Presley Enterprises Inc.\n\nThere are shuttle bus services available during the Festival from nearby towns including Forbes and Peak Hill.
LOCATION:\, Clarinda Street\, Parkes\, NSW 2870\, NSW\, 2870
RRULE:FREQ=DAILY;INTERVAL=1;UNTIL=20270110T000000Z
END:VEVENT
END:VCALENDAR
