BEGIN:VCALENDAR
VERSION:2.0
PRODID:-//My Community Diary//iCal Event//EN
CALSCALE:GREGORIAN
METHOD:PUBLISH
BEGIN:VEVENT
UID:feb240b5-1733-4c92-bdd1-2df5c479f8b0
DTSTAMP:20260422T003023Z
DTSTART;VALUE=DATE:20260424
DTEND;VALUE=DATE:20260425
SUMMARY:Parasite: Live in Concert
DESCRIPTION:New York Times' best film of 21st century with live orchestra.\n\nWatch South Korean Maestro Jung Jae-il conduct and perform his original composition for Bong Joon-ho's masterpiece Parasite\, as it plays on the big screen. \n\nFollowing Jung Jae-il's breakout score for Parasite\, he has since composed the score for Squid Game (Seasons 1-3)\, the 2022 Palme d'Or nominated Broker\, Bong Joon-ho's 2024 sci-fi Mickey 17\, and Twinless. He has rapidly risen to become one of the most celebrated and sought after film composers of his generation.\n\nBong Joon-ho's Parasite is one of the most acclaimed and awarded films of the century\, winning the rare double of the Cannes Palme d'Or and Academy Award for Best Picture\, amongst an avalanche of other accolades.\n\nIn this concert\, Jung Jae-il performs piano and conducts a 41-piece Orchestra through his warped take on the pomp and finery of European baroque\, as our protagonists – the Kim family – infiltrate the home and lives of the ultra-wealthy Park family...only to discover a sickness at the heart of their system of capital.
LOCATION:\, Bennelong Point\, Sydney\, NSW 2000\, NSW\, 2000
RRULE:FREQ=DAILY;INTERVAL=1;UNTIL=20260426T000000Z
END:VEVENT
END:VCALENDAR
