BEGIN:VCALENDAR
VERSION:2.0
PRODID:-//My Community Diary//iCal Event//EN
CALSCALE:GREGORIAN
METHOD:PUBLISH
BEGIN:VEVENT
UID:966ed3ca-1d09-4f9c-aed5-b4de9e51fa2a
DTSTAMP:20260421T224326Z
DTSTART;VALUE=DATE:20261215
DTEND;VALUE=DATE:20261216
SUMMARY:Pappa Sven's Nordic Film Club
DESCRIPTION:Pappa Sven is bringing the best of Nordic film to Newcastle.\nJoin them on the first Tuesday of every month\, at Tower Cinema\, and transport yourself into Nordic life through film.
LOCATION:\, 183 King Street\, Newcastle\, NSW 2300\, NSW\, 2300
RRULE:FREQ=DAILY;INTERVAL=1;UNTIL=20261217T000000Z
END:VEVENT
END:VCALENDAR
