BEGIN:VCALENDAR
VERSION:2.0
PRODID:-//My Community Diary//iCal Event//EN
CALSCALE:GREGORIAN
METHOD:PUBLISH
BEGIN:VEVENT
UID:a60a5699-96bb-4370-b8f8-e87d7acaa335
DTSTAMP:20260423T140516Z
DTSTART;VALUE=DATE:20261020
DTEND;VALUE=DATE:20261021
SUMMARY:Pappa Sven's Nordic Film Club
DESCRIPTION:Pappa Sven is bringing the best of Nordic film to Newcastle.\nJoin them on the first Tuesday of every month\, at Tower Cinema\, and transport yourself into Nordic life through film.
LOCATION:\, 183 King Street\, Newcastle\, NSW 2300\, NSW\, 2300
RRULE:FREQ=DAILY;INTERVAL=1;UNTIL=20261022T000000Z
END:VEVENT
END:VCALENDAR
