BEGIN:VCALENDAR
VERSION:2.0
PRODID:-//My Community Diary//iCal Event//EN
CALSCALE:GREGORIAN
METHOD:PUBLISH
BEGIN:VEVENT
UID:e8d0b5fc-d083-404a-8133-521fd51ec678
DTSTAMP:20260422T005010Z
DTSTART;VALUE=DATE:20261001
DTEND;VALUE=DATE:20261002
SUMMARY:Pappa Sven's Nordic Film Club
DESCRIPTION:Pappa Sven is bringing the best of Nordic film to Newcastle.\nJoin them on the first Tuesday of every month\, at Tower Cinema\, and transport yourself into Nordic life through film.
LOCATION:\, 183 King Street\, Newcastle\, NSW 2300\, NSW\, 2300
RRULE:FREQ=DAILY;INTERVAL=1;UNTIL=20261003T000000Z
END:VEVENT
END:VCALENDAR
