BEGIN:VCALENDAR
VERSION:2.0
PRODID:-//My Community Diary//iCal Event//EN
CALSCALE:GREGORIAN
METHOD:PUBLISH
BEGIN:VEVENT
UID:e33343ff-9f66-42f2-ad33-e889dc0c3440
DTSTAMP:20260422T020209Z
DTSTART;VALUE=DATE:20260926
DTEND;VALUE=DATE:20260927
SUMMARY:Pappa Sven's Nordic Film Club
DESCRIPTION:Pappa Sven is bringing the best of Nordic film to Newcastle.\nJoin them on the first Tuesday of every month\, at Tower Cinema\, and transport yourself into Nordic life through film.
LOCATION:\, 183 King Street\, Newcastle\, NSW 2300\, NSW\, 2300
RRULE:FREQ=DAILY;INTERVAL=1;UNTIL=20260928T000000Z
END:VEVENT
END:VCALENDAR
