BEGIN:VCALENDAR
VERSION:2.0
PRODID:-//My Community Diary//iCal Event//EN
CALSCALE:GREGORIAN
METHOD:PUBLISH
BEGIN:VEVENT
UID:305b60de-304b-42f6-84b5-4f5e098eb9fe
DTSTAMP:20260421T225735Z
DTSTART;VALUE=DATE:20260624
DTEND;VALUE=DATE:20260625
SUMMARY:Pappa Sven's Nordic Film Club
DESCRIPTION:Pappa Sven is bringing the best of Nordic film to Newcastle.\nJoin them on the first Tuesday of every month\, at Tower Cinema\, and transport yourself into Nordic life through film.
LOCATION:\, 183 King Street\, Newcastle\, NSW 2300\, NSW\, 2300
RRULE:FREQ=DAILY;INTERVAL=1;UNTIL=20260626T000000Z
END:VEVENT
END:VCALENDAR
