BEGIN:VCALENDAR
VERSION:2.0
PRODID:-//My Community Diary//iCal Event//EN
CALSCALE:GREGORIAN
METHOD:PUBLISH
BEGIN:VEVENT
UID:07f79bcd-5af5-4a61-9484-ef99e37b42cb
DTSTAMP:20260421T211531Z
DTSTART;VALUE=DATE:20261219
DTEND;VALUE=DATE:20261220
SUMMARY:Palm and Pawn Christmas Toy Raffle
DESCRIPTION:Lots of great prizes up for grabs from local stores around Wagga. Let them help you get your Christmas presents sorted. Great fun for the whole family.
LOCATION:\, 68 Hampden Avenue\, North Wagga Wagga\, NSW 2650\, NSW\, 2650
END:VEVENT
END:VCALENDAR
