BEGIN:VCALENDAR
VERSION:2.0
PRODID:-//My Community Diary//iCal Event//EN
CALSCALE:GREGORIAN
METHOD:PUBLISH
BEGIN:VEVENT
UID:dfc57bcd-4adc-4265-9cf3-48d97656ccbf
DTSTAMP:20260422T035102Z
DTSTART;VALUE=DATE:20261101
DTEND;VALUE=DATE:20261102
SUMMARY:Ourimbah Markets
DESCRIPTION:Ourimbah Markets is a must-visit local experience\, showcasing handmade goods\, fresh produce and unique finds - perfect for tourists looking to explore local flavour\, culture and community.\n\nHeld the first Sunday of each month\, rain\, hail or shine\, with a mix of outdoor & indoor stalls.
LOCATION:\, 2 Burns Road\, Ourimbah\, NSW 2258\, NSW\, 2258
RRULE:FREQ=DAILY;INTERVAL=1;UNTIL=20261103T000000Z
END:VEVENT
END:VCALENDAR
