BEGIN:VCALENDAR
VERSION:2.0
PRODID:-//My Community Diary//iCal Event//EN
CALSCALE:GREGORIAN
METHOD:PUBLISH
BEGIN:VEVENT
UID:7e1e3169-53f9-4ba3-845f-98c48455ca84
DTSTAMP:20260421T222358Z
DTSTART;VALUE=DATE:20260906
DTEND;VALUE=DATE:20260907
SUMMARY:Ourimbah Markets
DESCRIPTION:Ourimbah Markets is a must-visit local experience\, showcasing handmade goods\, fresh produce and unique finds - perfect for tourists looking to explore local flavour\, culture and community.\n\nHeld the first Sunday of each month\, rain\, hail or shine\, with a mix of outdoor & indoor stalls.
LOCATION:\, 2 Burns Road\, Ourimbah\, NSW 2258\, NSW\, 2258
RRULE:FREQ=DAILY;INTERVAL=1;UNTIL=20260908T000000Z
END:VEVENT
END:VCALENDAR
