BEGIN:VCALENDAR
VERSION:2.0
PRODID:-//My Community Diary//iCal Event//EN
CALSCALE:GREGORIAN
METHOD:PUBLISH
BEGIN:VEVENT
UID:19feed2f-5b6a-44fd-aa58-b24504da7da6
DTSTAMP:20260422T035626Z
DTSTART;VALUE=DATE:20260705
DTEND;VALUE=DATE:20260706
SUMMARY:Ourimbah Markets
DESCRIPTION:Ourimbah Markets is a must-visit local experience\, showcasing handmade goods\, fresh produce and unique finds - perfect for tourists looking to explore local flavour\, culture and community.\n\nHeld the first Sunday of each month\, rain\, hail or shine\, with a mix of outdoor & indoor stalls.
LOCATION:\, 2 Burns Road\, Ourimbah\, NSW 2258\, NSW\, 2258
RRULE:FREQ=DAILY;INTERVAL=1;UNTIL=20260707T000000Z
END:VEVENT
END:VCALENDAR
