BEGIN:VCALENDAR
VERSION:2.0
PRODID:-//My Community Diary//iCal Event//EN
CALSCALE:GREGORIAN
METHOD:PUBLISH
BEGIN:VEVENT
UID:0329f4b8-a02d-4ad4-8c08-41eaff558566
DTSTAMP:20260422T035828Z
DTSTART;VALUE=DATE:20260607
DTEND;VALUE=DATE:20260608
SUMMARY:Ourimbah Markets
DESCRIPTION:Ourimbah Markets is a must-visit local experience\, showcasing handmade goods\, fresh produce and unique finds - perfect for tourists looking to explore local flavour\, culture and community.\n\nHeld the first Sunday of each month\, rain\, hail or shine\, with a mix of outdoor & indoor stalls.
LOCATION:\, 2 Burns Road\, Ourimbah\, NSW 2258\, NSW\, 2258
RRULE:FREQ=DAILY;INTERVAL=1;UNTIL=20260609T000000Z
END:VEVENT
END:VCALENDAR
