BEGIN:VCALENDAR
VERSION:2.0
PRODID:-//My Community Diary//iCal Event//EN
CALSCALE:GREGORIAN
METHOD:PUBLISH
BEGIN:VEVENT
UID:8b06fed4-160b-4c23-a56c-31945be89ee9
DTSTAMP:20260421T222742Z
DTSTART;VALUE=DATE:20260503
DTEND;VALUE=DATE:20260504
SUMMARY:Our Kids Day Out
DESCRIPTION:Our Kids Day Out is always a great family day out for all. The event is held in Ballina at the amphitheatre and like previous years will be focused on children\, especially those who have been in Children's Ward and Special Care Nursery over the years. \n\nClowns\, rides\, children shows and food will be there as well as the emergency services for the children. \n\nWith wonderful kids entertainment including activities and shows\, bring a picnic blanket and enjoy the day. This event is free and is a wonderful family day out.
LOCATION:\, Kingsford Smith Drive\, Ballina\, NSW 2478\, NSW\, 2478
END:VEVENT
END:VCALENDAR
