BEGIN:VCALENDAR
VERSION:2.0
PRODID:-//My Community Diary//iCal Event//EN
CALSCALE:GREGORIAN
METHOD:PUBLISH
BEGIN:VEVENT
UID:f3751294-ca20-43a5-88fe-4006c2c18fe6
DTSTAMP:20260422T022008Z
DTSTART;VALUE=DATE:20261024
DTEND;VALUE=DATE:20261025
SUMMARY:Orange Wine Festival
DESCRIPTION:The annual Orange Wine Festival celebrates the vibrant wine and food culture of the Orange region\, renowned for its exceptional cool-climate wines.\n\nThe festival offers a colourful and diverse program of over 40 events. These events showcase the finest wines of the Orange region\, catering to everyone from experienced wine enthusiasts to newcomers eager to explore their palates.\n\nVisitors can indulge in a variety of experiences\, including intimate wine tastings\, gourmet food and wine pairings\, and vineyard tours that offer a behind-the-scenes look at the winemaking process. The festival also features masterclasses led by expert winemakers\, providing a deeper understanding of the unique characteristics of cool-climate wines.\n\nWhether you're exploring the picturesque vineyards\, savouring exquisite wines\, or enjoying the region's culinary delights\, the Orange Wine Festival offers a perfect blend of relaxation and excitement. It's an opportunity to connect with fellow wine lovers\, learn from industry experts\, and appreciate the unique charm of the Orange region. With something to delight every palate\, don't miss this chance to experience the best of cool-climate wines and the rich culinary offerings of Orange\, where every drop is truly "A Drop Above."
LOCATION:\, Various Venues\, Orange\, NSW 2800\, NSW\, 2800
RRULE:FREQ=DAILY;INTERVAL=1;UNTIL=20261026T000000Z
END:VEVENT
END:VCALENDAR
