BEGIN:VCALENDAR
VERSION:2.0
PRODID:-//My Community Diary//iCal Event//EN
CALSCALE:GREGORIAN
METHOD:PUBLISH
BEGIN:VEVENT
UID:c17a58dc-969f-45fb-8d20-b37cd71d010b
DTSTAMP:20260422T002935Z
DTSTART;VALUE=DATE:20260503
DTEND;VALUE=DATE:20260504
SUMMARY:Orange Wedding Showcase
DESCRIPTION:Bringing together more than 40 of Orange's premium wedding services and suppliers\, The Orange Wedding Showcase is an annual public expo providing an opportunity to meet face-to-face with bridal wear retailers\, photographers\, celebrants\, venues\, cake creators\, musicians and more! \n\nLocated in one of Orange's wedding and event hotspots\, Banksia Orange\, enjoy a glass of bubbles on arrival and delicious catering by Banksia Orange executive chef\, Dom Aboud.\n\nFor more information on tickets and timing\, visit the Orange Wedding Showcase website.
LOCATION:\, 4929 Mitchell Highway\, Orange\, NSW 2800\, NSW\, 2800
END:VEVENT
END:VCALENDAR
