BEGIN:VCALENDAR
VERSION:2.0
PRODID:-//My Community Diary//iCal Event//EN
CALSCALE:GREGORIAN
METHOD:PUBLISH
BEGIN:VEVENT
UID:39ea90a0-46be-4a58-a449-8338e88134f2
DTSTAMP:20260422T021958Z
DTSTART;VALUE=DATE:20261212
DTEND;VALUE=DATE:20261213
SUMMARY:Orange Christmas Carols
DESCRIPTION:Celebrate the festive season at the Orange Botanic Gardens at the Orange Christmas Carols\, proudly hosted by Orange City Council. \n\nMembers of the community are invited to enjoy an evening filled with live music\, carol singing and holiday cheer as they gather to celebrate the magic of Christmas.
LOCATION:\, 300 Hill Street\, Orange\, NSW 2800\, NSW\, 2800
END:VEVENT
END:VCALENDAR
