BEGIN:VCALENDAR
VERSION:2.0
PRODID:-//My Community Diary//iCal Event//EN
CALSCALE:GREGORIAN
METHOD:PUBLISH
BEGIN:VEVENT
UID:31d750bb-b28f-414a-aa4d-a781ca824326
DTSTAMP:20260422T071455Z
DTSTART;VALUE=DATE:20261209
DTEND;VALUE=DATE:20261210
SUMMARY:Operation Art
DESCRIPTION:Operation Art is an initiative of The Children's Hospital at Westmead in association with the New South Wales Department of Education. The program includes exhibitions\, workshops and professional-learning opportunities in visual arts for teachers and students from all schools in New South Wales.\n\nThe Operation Art program invites students from years K-10 across New South Wales each year to create an artwork for their peers in hospital\, to help brighten their day and uplift their spirits. In this touring exhibition\, 50 works are selected to become part of The Children's Hospital at Westmead\, brightening the environment and helping to lift the spirits of young patients through the healing power of art.
LOCATION:\, 230 High Street\, Maitland\, NSW 2320\, NSW\, 2320
RRULE:FREQ=DAILY;INTERVAL=1;UNTIL=20261211T000000Z
END:VEVENT
END:VCALENDAR
