BEGIN:VCALENDAR
VERSION:2.0
PRODID:-//My Community Diary//iCal Event//EN
CALSCALE:GREGORIAN
METHOD:PUBLISH
BEGIN:VEVENT
UID:08c3b5c7-c90e-4d18-ae0d-c67d33fb561e
DTSTAMP:20260423T140243Z
DTSTART;VALUE=DATE:20260521
DTEND;VALUE=DATE:20260522
SUMMARY:Open Door at the Gallery
DESCRIPTION:Each third Thursday of the month the Crookwell & District Art Gallery (CDAG) hosts an open door at the gallery morning. All are invited to share and discuss ideas\, learn about different approaches to looking at art\, and hear artists talk about their works. You don't need to be an artist to join in.\nAll welcome.
LOCATION:\, Denison Street\, Crookwell\, NSW 2583\, NSW\, 2583
RRULE:FREQ=DAILY;INTERVAL=1;UNTIL=20260523T000000Z
END:VEVENT
END:VCALENDAR
