BEGIN:VCALENDAR
VERSION:2.0
PRODID:-//My Community Diary//iCal Event//EN
CALSCALE:GREGORIAN
METHOD:PUBLISH
BEGIN:VEVENT
UID:8d2a003d-94a8-4396-82f3-ef17830c4675
DTSTAMP:20260422T054401Z
DTSTART;VALUE=DATE:20260704
DTEND;VALUE=DATE:20260705
SUMMARY:On The Night\, Music From Dire Straits
DESCRIPTION:In 1992\, Dire Straits reunited for one final\, unforgettable chapter - a tour that gave birth to the iconic live album On The Night. Capturing the band at their most polished and passionate\, this record would become a lasting tribute to their remarkable legacy\, filled with sweeping guitar work\, intricate arrangements\, and the unmistakable touch of Mark Knopfler.\n\nNow\, they invite you to relive the magic.\n\nJoin them for a night of music\, memory\, and musical mastery. This is not just a concert - it's a celebration of one of the greatest bands to ever grace the stage.\nFeel the sound. Relive the legacy. Be there - On the Night.\n\nEntry Cost\nAll tickets $70  - We accept companion cards
LOCATION:\, 525 Swift Street\, Albury\, NSW 2640\, NSW\, 2640
END:VEVENT
END:VCALENDAR
