BEGIN:VCALENDAR
VERSION:2.0
PRODID:-//My Community Diary//iCal Event//EN
CALSCALE:GREGORIAN
METHOD:PUBLISH
BEGIN:VEVENT
UID:a18516d3-5dc2-4651-88a5-7022c32c4b76
DTSTAMP:20260422T071344Z
DTSTART;VALUE=DATE:20261004
DTEND;VALUE=DATE:20261005
SUMMARY:Old Bar Beach Festival
DESCRIPTION:Polish your Kombi because the Old Bar Beach Festival returns on the October long weekend! Featuring the world-famous Kombi parade plus classic car displays\, markets\, carnival rides\, street food and bar\, all-day live music\, fireworks and all-around good vibes.
LOCATION:\, Old Bar Road\, Old Bar\, NSW 2430\, NSW\, 2430
RRULE:FREQ=DAILY;INTERVAL=1;UNTIL=20261006T000000Z
END:VEVENT
END:VCALENDAR
