BEGIN:VCALENDAR
VERSION:2.0
PRODID:-//My Community Diary//iCal Event//EN
CALSCALE:GREGORIAN
METHOD:PUBLISH
BEGIN:VEVENT
UID:8b0fc5a5-4dca-4c2e-b9aa-866ea2e75074
DTSTAMP:20260422T105919Z
DTSTART;VALUE=DATE:20261003
DTEND;VALUE=DATE:20261004
SUMMARY:Old Bar Beach Festival
DESCRIPTION:Polish your Kombi because the Old Bar Beach Festival returns on the October long weekend! Featuring the world-famous Kombi parade plus classic car displays\, markets\, carnival rides\, street food and bar\, all-day live music\, fireworks and all-around good vibes.
LOCATION:\, Old Bar Road\, Old Bar\, NSW 2430\, NSW\, 2430
RRULE:FREQ=DAILY;INTERVAL=1;UNTIL=20261005T000000Z
END:VEVENT
END:VCALENDAR
