BEGIN:VCALENDAR
VERSION:2.0
PRODID:-//My Community Diary//iCal Event//EN
CALSCALE:GREGORIAN
METHOD:PUBLISH
BEGIN:VEVENT
UID:1a659a8e-4ed3-4fa0-b0a1-fd6b675afe7e
DTSTAMP:20260422T003027Z
DTSTART;VALUE=DATE:20261002
DTEND;VALUE=DATE:20261003
SUMMARY:Old Bar Beach Festival
DESCRIPTION:Polish your Kombi because the Old Bar Beach Festival returns on the October long weekend! Featuring the world-famous Kombi parade plus classic car displays\, markets\, carnival rides\, street food and bar\, all-day live music\, fireworks and all-around good vibes.
LOCATION:\, Old Bar Road\, Old Bar\, NSW 2430\, NSW\, 2430
RRULE:FREQ=DAILY;INTERVAL=1;UNTIL=20261004T000000Z
END:VEVENT
END:VCALENDAR
