BEGIN:VCALENDAR
VERSION:2.0
PRODID:-//My Community Diary//iCal Event//EN
CALSCALE:GREGORIAN
METHOD:PUBLISH
BEGIN:VEVENT
UID:190f1a5a-31aa-49f9-b6f5-b01568351a0e
DTSTAMP:20260422T002845Z
DTSTART;VALUE=DATE:20260904
DTEND;VALUE=DATE:20260905
SUMMARY:Oh What A Night!
DESCRIPTION:Oh What A Night! is a blockbuster musical revue conceived and directed by award-winning Broadway producer Michael Chapman\, written by Motown producer George Solomon\, with choreography by Paul Holmquist. Celebrating the timeless music of Frankie Valli & The Four Seasons\, the show features an electrifying lineup of classics including 'Sherry'\, 'Big Girls Don't Cry'\, 'Walk Like a Man'\, 'Can't Take My Eyes Off You'\, 'My Eyes Adored You'\, 'Working My Way Back to You'\, 'Let's Hang On' and 'Who Loves You'—plus Frankie Valli's iconic solo hit from Grease.\n\nUnlike Jersey Boys\, which tells the group's story\, Oh What A Night! is a high-energy concert tribute\, delivering hit after hit alongside engaging\, informative and often hilarious banter from its stellar cast. Vocally true to the original recordings—without impersonation—the performances are so authentic it's hard to believe the cast is singing live. Inducted into the Rock & Roll Hall of Fame in 1990\, Frankie Valli & The Four Seasons continue to thrill audiences of all ages\, and this show captures that magic perfectly.\n\nSince its sold-out Las Vegas premiere in 2008\, Oh What A Night! has played to packed theatres\, arenas and concert halls worldwide\, including over 100 sold-out performances across Australia. Family-friendly\, exhilarating and irresistibly nostalgic\, it's a celebration of pop music at its very best.\n\nEntry Cost\nAll tickets $59.5  - Adult	                         $69.50\nConcession	         $59.50\nGroups 8+ 	         $59.50\nQ Member	         $59.50
LOCATION:\, 253 Crawford Street\, Queanbeyan\, NSW 2620\, NSW\, 2620
END:VEVENT
END:VCALENDAR
