BEGIN:VCALENDAR
VERSION:2.0
PRODID:-//My Community Diary//iCal Event//EN
CALSCALE:GREGORIAN
METHOD:PUBLISH
BEGIN:VEVENT
UID:bf3211bb-8f5b-488c-ac12-99bc09df5376
DTSTAMP:20260421T211525Z
DTSTART;VALUE=DATE:20260523
DTEND;VALUE=DATE:20260524
SUMMARY:Ocean Heroes- Ballina
DESCRIPTION:Ocean Heroes is returning to Ballina\, bringing its much-loved surfing experience back to one of the region's favourite beaches. Ocean Heroes is dedicated to improving the wellbeing of people on the autism spectrum and their families through the joy of surfing\, connection and time in the ocean.\n\nHaving supported more than 10\,000 participants across Australia\, the Ocean Heroes team is excited to once again deliver a safe\, supportive and uplifting day by the sea in Ballina.\n\nOn the day\, participants will arrive at the beach to check in before being paired one-on-one with an experienced surfer. Each child enters the ocean at their own pace\, with sessions carefully tailored to individual comfort and ability levels.\n\nAll essential equipment is provided\, including surfboards\, wetsuits\, lifejackets and qualified surf instructors\, along with plenty of encouragement and positive energy. For safety\, wearing a life jacket in the water is compulsory for all participants.\n\nFamilies are encouraged to bring bathers\, towels and warm clothes for after surfing. Ocean Heroes merchandise will also be available for purchase on the day.\n\nA heart-warming community event celebrating inclusion\, confidence and the power of the ocean.
LOCATION:\, Flat Rock Rd\, East Ballina\, NSW 2478\, NSW\, 2478
RRULE:FREQ=DAILY;INTERVAL=1;UNTIL=20260525T000000Z
END:VEVENT
END:VCALENDAR
