BEGIN:VCALENDAR
VERSION:2.0
PRODID:-//My Community Diary//iCal Event//EN
CALSCALE:GREGORIAN
METHOD:PUBLISH
BEGIN:VEVENT
UID:b008522f-c893-4df8-8591-c8e02e420e1f
DTSTAMP:20260421T225632Z
DTSTART;VALUE=DATE:20261123
DTEND;VALUE=DATE:20261124
SUMMARY:Oberon Outdoor Festival
DESCRIPTION:This is a month-long festival with something for everyone from a teddy bears picnic for the small members of the community\, to a fun run\, sip and splash for the over 21's\, redfin roundup fishing comp and a fossicking day out at burraga dam.
LOCATION:\, 48 Ross Street\, Oberon\, NSW 2787\, NSW\, 2787
RRULE:FREQ=DAILY;INTERVAL=1;UNTIL=20261125T000000Z
END:VEVENT
END:VCALENDAR
