BEGIN:VCALENDAR
VERSION:2.0
PRODID:-//My Community Diary//iCal Event//EN
CALSCALE:GREGORIAN
METHOD:PUBLISH
BEGIN:VEVENT
UID:208c7222-aac4-445b-8389-d6921ab77f14
DTSTAMP:20260421T211435Z
DTSTART;VALUE=DATE:20261122
DTEND;VALUE=DATE:20261123
SUMMARY:Oberon Outdoor Festival
DESCRIPTION:This is a month-long festival with something for everyone from a teddy bears picnic for the small members of the community\, to a fun run\, sip and splash for the over 21's\, redfin roundup fishing comp and a fossicking day out at burraga dam.
LOCATION:\, 48 Ross Street\, Oberon\, NSW 2787\, NSW\, 2787
RRULE:FREQ=DAILY;INTERVAL=1;UNTIL=20261124T000000Z
END:VEVENT
END:VCALENDAR
