BEGIN:VCALENDAR
VERSION:2.0
PRODID:-//My Community Diary//iCal Event//EN
CALSCALE:GREGORIAN
METHOD:PUBLISH
BEGIN:VEVENT
UID:61db1ae2-5ff4-4515-8795-29aa01a2fcc7
DTSTAMP:20260421T211427Z
DTSTART;VALUE=DATE:20261116
DTEND;VALUE=DATE:20261117
SUMMARY:Oberon Outdoor Festival
DESCRIPTION:This is a month-long festival with something for everyone from a teddy bears picnic for the small members of the community\, to a fun run\, sip and splash for the over 21's\, redfin roundup fishing comp and a fossicking day out at burraga dam.
LOCATION:\, 48 Ross Street\, Oberon\, NSW 2787\, NSW\, 2787
RRULE:FREQ=DAILY;INTERVAL=1;UNTIL=20261118T000000Z
END:VEVENT
END:VCALENDAR
