BEGIN:VCALENDAR
VERSION:2.0
PRODID:-//My Community Diary//iCal Event//EN
CALSCALE:GREGORIAN
METHOD:PUBLISH
BEGIN:VEVENT
UID:0b39b4fa-6159-446c-a1c7-988676d12f38
DTSTAMP:20260422T020156Z
DTSTART;VALUE=DATE:20261107
DTEND;VALUE=DATE:20261108
SUMMARY:Oberon Outdoor Festival
DESCRIPTION:This is a month-long festival with something for everyone from a teddy bears picnic for the small members of the community\, to a fun run\, sip and splash for the over 21's\, redfin roundup fishing comp and a fossicking day out at burraga dam.
LOCATION:\, 48 Ross Street\, Oberon\, NSW 2787\, NSW\, 2787
RRULE:FREQ=DAILY;INTERVAL=1;UNTIL=20261109T000000Z
END:VEVENT
END:VCALENDAR
