BEGIN:VCALENDAR
VERSION:2.0
PRODID:-//My Community Diary//iCal Event//EN
CALSCALE:GREGORIAN
METHOD:PUBLISH
BEGIN:VEVENT
UID:32cc16d8-d0db-4021-84b4-ac2c6f813737
DTSTAMP:20260422T050306Z
DTSTART;VALUE=DATE:20260611
DTEND;VALUE=DATE:20260612
SUMMARY:Nowra Milky Way Masterclass
DESCRIPTION:Do you want to learn night photography to capture beautiful Milky Way landscapes? Join multi-award-winning photographer David Magro for a night under the stars!\n\nBeginners and enthusiasts are welcome. The Masterclass is held in a classroom before going out into the night to photograph the stars. You will leave with beautiful photographs.\n\nMost cameras can photograph the Milky Way and galaxies. Borrow one of their cameras on the night. \n\nMasterclass details will be provided upon booking. Their Masterclass venue is the Bomaderry Community Centre\, and our amazing nearby dark sky photography location will be Berry Bay. Directions will be provided on the night.\n\nYou will learn how to:\nPhotograph the Milky Way and the night sky.\nCompose your photographs in the dark.\nProduce noise-free photographs.\nEasily photograph panoramas.\nPlan your future photographs.\nEdit your photographs with the Milky Way Masterclass Suite included.\n\nPlus\, receive access to the Milky Way Masterclass Suite learning tutorial guides and the Facebook support group\, David Magro Masterclass.\n\nPhotographing the stars has never been easier.\n\nEntry Cost\nAll tickets $297 
LOCATION:\, 5/19 Birriley St\, Bomaderry NSW 2541\, Nowra\, NSW 2541\, NSW\, 2541
END:VEVENT
END:VCALENDAR
