BEGIN:VCALENDAR
VERSION:2.0
PRODID:-//My Community Diary//iCal Event//EN
CALSCALE:GREGORIAN
METHOD:PUBLISH
BEGIN:VEVENT
UID:c9b53040-59f7-4597-8543-2c6cfaace4c0
DTSTAMP:20260421T224253Z
DTSTART;VALUE=DATE:20261003
DTEND;VALUE=DATE:20261004
SUMMARY:Northern Sounds Karaoke
DESCRIPTION:'The real appeal of karaoke is that it isn’t exclusive just to those who can sing well – it’s an invitation for anyone\, anywhere\, to belt out a tune that the audience will probably recognise and sing along with too! It brings people together to appreciate music and creates a fun and connected atmosphere.'\n\nNorthern Sounds Karaoke hosted by Mary-Ann De Hoon is on at the club on the first Saturday of every month. Come down\, have some fun and be the star of the show!
LOCATION:\, 15 Cowley Road\, Dunoon\, NSW 2480\, NSW\, 2480
RRULE:FREQ=DAILY;INTERVAL=1;UNTIL=20261005T000000Z
END:VEVENT
END:VCALENDAR
