BEGIN:VCALENDAR
VERSION:2.0
PRODID:-//My Community Diary//iCal Event//EN
CALSCALE:GREGORIAN
METHOD:PUBLISH
BEGIN:VEVENT
UID:6e007da8-8c59-4f3d-a04d-55aab3e60436
DTSTAMP:20260422T035042Z
DTSTART;VALUE=DATE:20260426
DTEND;VALUE=DATE:20260427
SUMMARY:Northern Rivers Community Gallery March Exhibitions
DESCRIPTION:Northern Rivers Community Gallery (NRCG) presents four exhibitions that explore light and water in local landscapes\, printmaking and its relationship to memory and loss\, artworks that recycle everyday materials into new creations and an exhibition that offers a sensorial experience focused on accessibility.
LOCATION:\, 44 Cherry Street\, Ballina\, NSW 2478\, NSW\, 2478
RRULE:FREQ=DAILY;INTERVAL=1;UNTIL=20260428T000000Z
END:VEVENT
END:VCALENDAR
