BEGIN:VCALENDAR
VERSION:2.0
PRODID:-//My Community Diary//iCal Event//EN
CALSCALE:GREGORIAN
METHOD:PUBLISH
BEGIN:VEVENT
UID:7567e38c-b602-4a9d-9996-79f903fff9f1
DTSTAMP:20260421T224109Z
DTSTART;VALUE=DATE:20260424
DTEND;VALUE=DATE:20260425
SUMMARY:Northern Rivers Community Gallery March Exhibitions
DESCRIPTION:Northern Rivers Community Gallery (NRCG) presents four exhibitions that explore light and water in local landscapes\, printmaking and its relationship to memory and loss\, artworks that recycle everyday materials into new creations and an exhibition that offers a sensorial experience focused on accessibility.
LOCATION:\, 44 Cherry Street\, Ballina\, NSW 2478\, NSW\, 2478
RRULE:FREQ=DAILY;INTERVAL=1;UNTIL=20260426T000000Z
END:VEVENT
END:VCALENDAR
