BEGIN:VCALENDAR
VERSION:2.0
PRODID:-//My Community Diary//iCal Event//EN
CALSCALE:GREGORIAN
METHOD:PUBLISH
BEGIN:VEVENT
UID:14b64360-61c8-4be7-87bf-6f0ac4dc7468
DTSTAMP:20260422T005235Z
DTSTART;VALUE=DATE:20260531
DTEND;VALUE=DATE:20260601
SUMMARY:North Coast Classic Motorcycle Show and Swap
DESCRIPTION:Held at the Alstonville Showgrounds\, the sixth North Coast Classic Motorcycle Show and Swap Meet is a celebration of historic and classic bikes.\n\nThe event showcases a display of historic and classic motorcycles as well as a swap and meet arena for unique finds\, parts\, and other bike related treasures.\n\nThe event proudly raises funds for the Ballina Hospital Auxiliary so you know your supporting a worthy cause.\n\nThis is an incredible event celebrating classic bikes and community spirit.\n\nEntry Cost\nAll tickets $1  - Gold coin entry
LOCATION:\, 22-40 Commercial Road\, Alstonville\, NSW 2477\, NSW\, 2477
END:VEVENT
END:VCALENDAR
