BEGIN:VCALENDAR
VERSION:2.0
PRODID:-//My Community Diary//iCal Event//EN
CALSCALE:GREGORIAN
METHOD:PUBLISH
BEGIN:VEVENT
UID:35d49845-0a2f-489f-a9fa-c21801a2c9d3
DTSTAMP:20260422T021003Z
DTSTART;VALUE=DATE:20270821
DTEND;VALUE=DATE:20270822
SUMMARY:Norah Head Ocean View Markets
DESCRIPTION:Norah Head Ocean View Markets offers a relaxed coastal market experience at Mazlin Reserve\, overlooking the ocean. Visitors explore artisan stalls featuring handmade homewares\, coastal art\, fashion and small-batch foods created by local makers. The setting delivers sea breezes\, natural views and a friendly community atmosphere.\n\nLive acoustic music and creative workshops enhance the beachside feel. Guests can enjoy fresh food on the grass\, browse gifts crafted by Central Coast artisans and connect with local creatives in a scenic seaside location. Norah Head Ocean View Markets is known for its coastal charm\, curated makers and welcoming environment\, creating a memorable destination for travellers seeking an authentic local experience
LOCATION:\, Bungary Road\, Norah Head\, NSW 2263\, NSW\, 2263
RRULE:FREQ=DAILY;INTERVAL=1;UNTIL=20270823T000000Z
END:VEVENT
END:VCALENDAR
