BEGIN:VCALENDAR
VERSION:2.0
PRODID:-//My Community Diary//iCal Event//EN
CALSCALE:GREGORIAN
METHOD:PUBLISH
BEGIN:VEVENT
UID:a2205a3f-e0b2-4e2c-ba90-7c5f76353263
DTSTAMP:20260422T015615Z
DTSTART;VALUE=DATE:20260614
DTEND;VALUE=DATE:20260615
SUMMARY:Norah Head Lighthouse Milky Way Masterclass
DESCRIPTION:Do you want to learn night photography to capture the beautiful Milky Way? Join multi-award-winning photographer David Magro for a night under the stars!\n\nBeginners and enthusiasts are welcome. The Masterclass is held in a classroom before going out into the night to photograph the stars. You will leave with beautiful photographs.\n\nMost cameras can photograph the Milky Way and galaxies. Borrow one of their cameras on the night. \n\nMasterclass details will be provided upon booking. Their Masterclass venue is the The Ary Toukley and our amazing nearby dark sky photography location will be at a Norah Head Lighthouse\, directions will be provided on the night.\n\nYou will learn how to:\nPhotograph the Milky Way and the night sky.\nCompose your photographs in the dark.\nProduce noise-free photographs.\nEasily photograph panoramas.\nPlan your future photographs.\nEdit your photographs with the Milky Way Masterclass Suite included.\n\nPlus\, receive access to the Milky Way Masterclass Suite learning tutorial guides and the Facebook support group\, David Magro Masterclass.\n\nPhotographing the stars has never been easier.\n\nEntry Cost\nAll tickets $297 
LOCATION:\, Holmes Ave\, Toukley\, NSW 2263\, NSW\, 2263
END:VEVENT
END:VCALENDAR
