BEGIN:VCALENDAR
VERSION:2.0
PRODID:-//My Community Diary//iCal Event//EN
CALSCALE:GREGORIAN
METHOD:PUBLISH
BEGIN:VEVENT
UID:d90035f0-02df-404a-9e4c-c893469cc9cf
DTSTAMP:20260421T224114Z
DTSTART;VALUE=DATE:20260618
DTEND;VALUE=DATE:20260619
SUMMARY:No Lights No Lycra - Newtown
DESCRIPTION:Join one of the many No Lights No Lycra dance classes across Sydney and feel the euphoric rush of no-shame movement. No Lights No Lyrca's casual dance sessions are free-form: rooms are dimly lit\, there are no instructors or steps\, booking is not required. Just show up\, pay a small fee and dance for an hour in the dark with a group of like-minded people.
LOCATION:\, 189 Church St\, Newtown\, NSW 2042\, NSW\, 2042
RRULE:FREQ=DAILY;INTERVAL=1;UNTIL=20260620T000000Z
END:VEVENT
END:VCALENDAR
