BEGIN:VCALENDAR
VERSION:2.0
PRODID:-//My Community Diary//iCal Event//EN
CALSCALE:GREGORIAN
METHOD:PUBLISH
BEGIN:VEVENT
UID:f8c94ea0-bf5b-47a0-94ae-b914e44c2e36
DTSTAMP:20260422T020152Z
DTSTART;VALUE=DATE:20260507
DTEND;VALUE=DATE:20260508
SUMMARY:No Lights No Lycra - Newtown
DESCRIPTION:Join one of the many No Lights No Lycra dance classes across Sydney and feel the euphoric rush of no-shame movement. No Lights No Lyrca's casual dance sessions are free-form: rooms are dimly lit\, there are no instructors or steps\, booking is not required. Just show up\, pay a small fee and dance for an hour in the dark with a group of like-minded people.
LOCATION:\, 189 Church St\, Newtown\, NSW 2042\, NSW\, 2042
RRULE:FREQ=DAILY;INTERVAL=1;UNTIL=20260509T000000Z
END:VEVENT
END:VCALENDAR
