BEGIN:VCALENDAR
VERSION:2.0
PRODID:-//My Community Diary//iCal Event//EN
CALSCALE:GREGORIAN
METHOD:PUBLISH
BEGIN:VEVENT
UID:6e06ac4f-0f54-4896-b284-ec4b459c3ae8
DTSTAMP:20260421T224317Z
DTSTART;VALUE=DATE:20260521
DTEND;VALUE=DATE:20260522
SUMMARY:Nimbin Sustainable Living Hub Workshops
DESCRIPTION:Be inspired at Nimbin's Sustainable Living Hub with weekly workshops and farm tours\, demonstrations\, garden tours\, education on alternative building\, recycling\, plus access to a community tools library\, plant nursery and seed exchange.\n\nEach month\, they offer a variety of workshops along with regular sessions. The Spinners and Weavers workshop takes place every Thursday and the Nimbin Chickens recycling project is the 1st Tuesday of every month. \n\nBookings are essential for special workshops via email. The February workshops include learning how to make Traditional Clay Oil Lamps and Cob Building Skills.\n\nEntry Cost\nAll tickets $20 
LOCATION:\, 7 Sibley Street\, Nimbin\, NSW 2480\, NSW\, 2480
RRULE:FREQ=DAILY;INTERVAL=1;UNTIL=20260523T000000Z
END:VEVENT
END:VCALENDAR
