BEGIN:VCALENDAR
VERSION:2.0
PRODID:-//My Community Diary//iCal Event//EN
CALSCALE:GREGORIAN
METHOD:PUBLISH
BEGIN:VEVENT
UID:86a3a161-da11-4b49-b75c-3b08835944e4
DTSTAMP:20260422T021824Z
DTSTART;VALUE=DATE:20260503
DTEND;VALUE=DATE:20260504
SUMMARY:Nimbin MardiGrass
DESCRIPTION:The Nimbin MardiGrass is an annual rally and celebration in the tiny village of Nimbin.  Beginning in 1993\, MardiGrass is held to protest the drug laws\, educate people on the various uses of cannabis (medicinal\, industrial\, recreational and spiritual) and celebrate the culture that has grown here over the years.\n\nThe village of Nimbin comes alive for this three day festival with events\, workshops\, talks and the vibrant street parade.\n\nKeep up to date with event updates via their website and social media channels.
LOCATION:\, Nimbin\, NSW 2480\, NSW\, 2480
RRULE:FREQ=DAILY;INTERVAL=1;UNTIL=20260505T000000Z
END:VEVENT
END:VCALENDAR
