BEGIN:VCALENDAR
VERSION:2.0
PRODID:-//My Community Diary//iCal Event//EN
CALSCALE:GREGORIAN
METHOD:PUBLISH
BEGIN:VEVENT
UID:64ac43d1-d00c-4746-a06b-a1c9c77ff9c3
DTSTAMP:20260422T035709Z
DTSTART;VALUE=DATE:20260805
DTEND;VALUE=DATE:20260806
SUMMARY:Nimbin Farmers Market
DESCRIPTION:The Nimbin Farmers' Market is held every Wednesday afternoon. \n\nA great opportunity to buy fresh produce directly from local growers and producers. Products available include bread and baked goodies\, meat\, vegetables\, tofu\, cheeses\, desserts and seasonal fruit and vegetables.\n\nAll produce is grown locally\, for the enjoyment and health benefits of locals and visitors to the village.
LOCATION:\, 39 Cullen Street\, Nimbin\, NSW 2480\, NSW\, 2480
RRULE:FREQ=DAILY;INTERVAL=1;UNTIL=20260807T000000Z
END:VEVENT
END:VCALENDAR
