BEGIN:VCALENDAR
VERSION:2.0
PRODID:-//My Community Diary//iCal Event//EN
CALSCALE:GREGORIAN
METHOD:PUBLISH
BEGIN:VEVENT
UID:3529dbe5-d474-4df4-b8a2-2f5ff95a7528
DTSTAMP:20260421T205501Z
DTSTART;VALUE=DATE:20260513
DTEND;VALUE=DATE:20260514
SUMMARY:Nicole Welch: Unveiling the Night
DESCRIPTION:In this body of work\, media-based artist Nicole Welch reveals the nocturnal habitat of Hill End\, NSW\, where she resides\, focusing her lens on native and introduced species' behaviours and routines.\n\nThrough night vision camera traps\, placed with minimal intervention in the landscape\, Welch captures and presents the performance of their nightly habits and interactions\, evoking an appreciation of the beauty and diversity of the natural world.
LOCATION:\, 149 Byng Street\, Orange\, NSW 2800\, NSW\, 2800
RRULE:FREQ=DAILY;INTERVAL=1;UNTIL=20260515T000000Z
END:VEVENT
END:VCALENDAR
