BEGIN:VCALENDAR
VERSION:2.0
PRODID:-//My Community Diary//iCal Event//EN
CALSCALE:GREGORIAN
METHOD:PUBLISH
BEGIN:VEVENT
UID:09ca0389-8f3f-4e22-bf72-193bbe4866d0
DTSTAMP:20260422T005211Z
DTSTART;VALUE=DATE:20260815
DTEND;VALUE=DATE:20260816
SUMMARY:Nicolas Altstaedt & Thomas Dunford | Musica Viva Australia | Newcastle
DESCRIPTION:In the intricate weave of sounds that make up a baroque ensemble\, the lute is central. It's fitting\, then\, that French-American lutenist Thomas Dunford is at the centre of some of the most exciting early music-making of the moment. A regular collaborator with everyone from Les Arts Florissants to his own band of all-stars\, the Jupiter Ensemble\, he has been dubbed the 'Eric Clapton of the lute' by BBC Music Magazine. It is with great delight that Musica Viva Australia presents Thomas Dunford's Australian debut.\n\nThomas Dunford shares the stage with multi-award-winning cellist Nicolas Altstaedt. Since Altstaedt first performed for Musica Viva Australia – can it really be a decade ago? – his star has continued to soar\, as soloist\, as conductor and as artistic catalyst to festivals and ensembles worldwide. It is a precious treat to hear him in recital.\n\nWhat will these two originals create when they step on stage together? Anything could happen. But you can expect to be delighted by the genial invention of Louis XIV favourite Marais\, dazzled by the virtuosic riffs of his rival Forqueray\, and consoled by Bach's Cello Suites Nos. 1 and 5. Expect the unexpected too\, as they perform music closer to our time by Henri Duparc\, Arvo Pärt and more.\n\nEntry Cost\nAll tickets $40 
LOCATION:\, 290 King Street\, Newcastle\, NSW 2300\, NSW\, 2300
END:VEVENT
END:VCALENDAR
