BEGIN:VCALENDAR
VERSION:2.0
PRODID:-//My Community Diary//iCal Event//EN
CALSCALE:GREGORIAN
METHOD:PUBLISH
BEGIN:VEVENT
UID:e0fe6b11-c5bf-468f-b5d5-e744678eb174
DTSTAMP:20260422T021053Z
DTSTART;VALUE=DATE:20260516
DTEND;VALUE=DATE:20260517
SUMMARY:Nick Abrahams – The Accidental Lawyer
DESCRIPTION:If you want an inspiring lawyer story\, read To Kill a Mockingbird. If you want a laugh\, come to this show.\n\nYears ago\, Nick Abrahams was a successful comedian in Tokyo\, starring in his own television show and hailed as the Seinfeld of Japan. He then landed a job at Warner Bros in Hollywood\, working with George Clooney on ER and Aaron Sorkin on The West Wing. He produced and appeared in a film with Woody Allen\, and then he became a lawyer.\n\nWhen anyone hears this\, their first reaction is\, 'Why so much name-dropping and then they ask\, What went wrong? A lot of people escape being a lawyer to do something more interesting. Nick escaped doing something more interesting to spend 16 hours a day arguing over commas. This is a show about how Nick did a career change in reverse and then tried to escape.\n\nAnd in a twist no one saw coming\, he became a senior partner in a global law firm for 25 years.\n\nNot just for lawyers\, this show is for anyone who's ever wanted to change their life but was quietly terrified they'd completely stuff it up.
LOCATION:\, 118 Enmore Road\, Enmore\, NSW 2042\, NSW\, 2042
RRULE:FREQ=DAILY;INTERVAL=1;UNTIL=20260518T000000Z
END:VEVENT
END:VCALENDAR
