BEGIN:VCALENDAR
VERSION:2.0
PRODID:-//My Community Diary//iCal Event//EN
CALSCALE:GREGORIAN
METHOD:PUBLISH
BEGIN:VEVENT
UID:65c6ee6b-77ab-4784-9770-7d7f906c3d10
DTSTAMP:20260422T000659Z
DTSTART;VALUE=DATE:20260530
DTEND;VALUE=DATE:20260531
SUMMARY:NEWCO Activity Weekend
DESCRIPTION:Get ready for a celebration of Wiradjuri Culture! Learn about tool making\, traditional dancing\, weaving\, Wiradjuri language and song. \n\nLocal mob are keen to share their culture. Buy artwork and native plants. Bush tucker is included in the ticket price. Come along and hear about the Aboriginal Land Management Services that the North East Wiradjuri Company provide.
LOCATION:\, 28 Angus Avenue\, Kandos\, NSW 2848\, NSW\, 2848
RRULE:FREQ=DAILY;INTERVAL=1;UNTIL=20260601T000000Z
END:VEVENT
END:VCALENDAR
